BEGIN:VCALENDAR
VERSION:2.0
PRODID:-//OmniMagnetCalendar//EN
BEGIN:VEVENT
DTSTAMP:20190625T195740Z
STATUS:CONFIRMED
UID:cleveland.illiniclub.org205
DTSTART:20260228T010000Z
DTEND:20260228T040000Z
LOCATION:Buffalo Wild Wings, 3001 State Road, None, Cuyahoga Falls, OH, 44223, United States,
SUMMARY:Friday, February 27, 8:00 pm Game Watch - Fighting Illini vs. Michigan Wolverines
DESCRIPTION:Buffalo Wing Wings 3001 State Road, Cuyahoga Falls, OH 44223
BEGIN:VALARM
TRIGGER:-PT15M
ACTION:DISPLAY
END:VALARM
TRANSP:OPAQUE
END:VEVENT
END:VCALENDAR
