BEGIN:VCALENDAR
VERSION:2.0
PRODID:-//OmniMagnetCalendar//EN
BEGIN:VEVENT
DTSTAMP:20190625T195740Z
STATUS:CONFIRMED
UID:cleveland.illiniclub.org204
DTSTART:20251004T160000Z
DTEND:20251004T200000Z
LOCATION:Buffalo Wild Wings, 3001 State Road, None, Cuyahoga Falls, OH, 44223, United States,
SUMMARY:Saturday, Oct. 4 Game Watch - Fighting Illini at Purdue, Noon
DESCRIPTION:Buffalo Wing Wings 3001 State Road, Cuyahoga Falls, OH 44223
BEGIN:VALARM
TRIGGER:-PT15M
ACTION:DISPLAY
END:VALARM
TRANSP:OPAQUE
END:VEVENT
END:VCALENDAR
