BEGIN:VCALENDAR
VERSION:2.0
PRODID:-//OmniMagnetCalendar//EN
BEGIN:VEVENT
DTSTAMP:20190625T195740Z
STATUS:CONFIRMED
UID:cleveland.illiniclub.org202
DTSTART:20250906T160000Z
DTEND:20250906T200000Z
LOCATION:Buffalo Wild Wings, 9062 State Route 14, None, Streetsboro, OH, 44241-5628, United States,
SUMMARY:Game Watch - Fighting Illini vs. Duke - Saturday, September 6, 2025, Noon
DESCRIPTION:Buffalo Wing Wings 9062 State Route 14, Streetsboro, OH 44241-5628
BEGIN:VALARM
TRIGGER:-PT15M
ACTION:DISPLAY
END:VALARM
TRANSP:OPAQUE
END:VEVENT
END:VCALENDAR
