BEGIN:VCALENDAR
VERSION:2.0
PRODID:-//OmniMagnetCalendar//EN
BEGIN:VEVENT
DTSTAMP:20190625T195740Z
STATUS:CONFIRMED
UID:cleveland.illiniclub.org199
DTSTART:20250202T180000Z
DTEND:20250202T210000Z
LOCATION:Wild Eagle Steak and Saloon, 5001 East Royalton Road, None, Broadview Heights, OH, 44147, United States,
SUMMARY:Game Watch - Illinois vs. Ohio State - 1:00 pm
DESCRIPTION:Wild Eagle Steak and Saloon 5001 East Royalton Road, Broadview Heights, Ohio 44147
BEGIN:VALARM
TRIGGER:-PT15M
ACTION:DISPLAY
END:VALARM
TRANSP:OPAQUE
END:VEVENT
END:VCALENDAR
