BEGIN:VCALENDAR
VERSION:2.0
PRODID:-//OmniMagnetCalendar//EN
BEGIN:VEVENT
DTSTAMP:20190625T195740Z
STATUS:CONFIRMED
UID:cleveland.illiniclub.org193
DTSTART:20250821T223000Z
DTEND:20250822T010000Z
LOCATION:Saucy Brew Works - Pinecrest, 400 Park Avenue, Suite 170, Orange, OH, 44122, United States,
SUMMARY:Trivia Night at Saucy Brew Works at Pinecrest
DESCRIPTION:Thursday, August 21, 2025, 6:30 pm - 9:00 pm
BEGIN:VALARM
TRIGGER:-PT15M
ACTION:DISPLAY
END:VALARM
TRANSP:OPAQUE
END:VEVENT
END:VCALENDAR
