BEGIN:VCALENDAR
VERSION:2.0
PRODID:-//OmniMagnetCalendar//EN
BEGIN:VEVENT
DTSTAMP:20190625T195740Z
STATUS:CONFIRMED
UID:cleveland.illiniclub.org186
DTSTART:20230611T160000Z
DTEND:20230611T200001Z
LOCATION:Harper's Ridge Cleveland MetroParks, CG7R+M4H Solon, Ohio,  Solon, OH, 44139,
SUMMARY:Cleveland Picnic
DESCRIPTION:University of Illinois Alumni Appreciation
BEGIN:VALARM
TRIGGER:-PT15M
ACTION:DISPLAY
END:VALARM
TRANSP:OPAQUE
END:VEVENT
END:VCALENDAR
